BEGIN:VCALENDAR
VERSION:2.0
PRODID:-//TDPE - ECPv6.0.1.1//NONSGML v1.0//EN
CALSCALE:GREGORIAN
METHOD:PUBLISH
X-WR-CALNAME:TDPE
X-ORIGINAL-URL:https://tdpe.net
X-WR-CALDESC:Events for TDPE
REFRESH-INTERVAL;VALUE=DURATION:PT1H
X-Robots-Tag:noindex
X-PUBLISHED-TTL:PT1H
BEGIN:VTIMEZONE
TZID:Europe/Madrid
BEGIN:DAYLIGHT
TZOFFSETFROM:+0100
TZOFFSETTO:+0200
TZNAME:CEST
DTSTART:20260329T010000
END:DAYLIGHT
BEGIN:STANDARD
TZOFFSETFROM:+0200
TZOFFSETTO:+0100
TZNAME:CET
DTSTART:20261025T010000
END:STANDARD
END:VTIMEZONE
BEGIN:VEVENT
DTSTART;TZID=Europe/Madrid:20260421T093000
DTEND;TZID=Europe/Madrid:20260421T130000
DTSTAMP:20260419T164005
CREATED:20260329T163455Z
LAST-MODIFIED:20260329T163455Z
UID:4718-1776763800-1776776400@tdpe.net
SUMMARY:CURSO ON LINE RELATO DEL USO DE LA FUERZA EN LA COMPARECENCIA
DESCRIPTION:TODA LA INFO DEL CURSO CLICANDO AQUI
URL:https://tdpe.net/curso/curso-on-line-relato-del-uso-de-la-fuerza-en-la-comparecencia/
LOCATION:CURSOS ONLINE
ATTACH;FMTTYPE=image/jpeg:https://tdpe.net/wp-content/uploads/2026/03/CARTEL-RELATO-USO-FUERZA-ON-LINE.jpg
END:VEVENT
BEGIN:VEVENT
DTSTART;TZID=Europe/Madrid:20260506T093000
DTEND;TZID=Europe/Madrid:20260506T170000
DTSTAMP:20260419T164005
CREATED:20260329T163115Z
LAST-MODIFIED:20260329T163115Z
UID:4713-1778059800-1778086800@tdpe.net
SUMMARY:CURSO JUSTIFICACION USO DE LA FUERZA ANTE LOS TRIBUNALES
DESCRIPTION:TODA LA INFO DEL CURSO CLICANDO AQUI
URL:https://tdpe.net/curso/curso-justificacion-uso-de-la-fuerza-ante-los-tribunales/
LOCATION:ALCALA DE GUADAIRA (SEVILLA)
ATTACH;FMTTYPE=image/jpeg:https://tdpe.net/wp-content/uploads/2026/03/PONENCIA-ALCALA.jpg
END:VEVENT
BEGIN:VEVENT
DTSTART;TZID=Europe/Madrid:20260514T093000
DTEND;TZID=Europe/Madrid:20260514T130000
DTSTAMP:20260419T164005
CREATED:20260219T134225Z
LAST-MODIFIED:20260219T134225Z
UID:4697-1778751000-1778763600@tdpe.net
SUMMARY:RELATO DEL USO DE LA FUERZA EN LA COMPARECENCIA
DESCRIPTION:PARA OBTENER TODA LA INFO DEL CURSO CLICAR AQUI
URL:https://tdpe.net/curso/relato-del-uso-de-la-fuerza-en-la-comparecencia/
LOCATION:GIRONA
ATTACH;FMTTYPE=image/jpeg:https://tdpe.net/wp-content/uploads/2026/02/WhatsApp-Image-2026-02-19-at-12.52.22.jpeg
END:VEVENT
END:VCALENDAR